BEGIN:VCALENDAR
VERSION:2.0
PRODID:spatie/icalendar-generator
DESCRIPTION:Events from Aventuras en Surf y Paddlesurf en Llanes y Picos de
  Europa
X-WR-CALDESC:Events from Aventuras en Surf y Paddlesurf en Llanes y Picos d
 e Europa
REFRESH-INTERVAL;VALUE=DURATION:PT1440M
X-PUBLISHED-TTL:PT1440M
BEGIN:VTIMEZONE
TZID:Europe/Madrid
BEGIN:STANDARD
DTSTART:20251026T030000Z
TZOFFSETFROM:+0200
TZOFFSETTO:+0100
END:STANDARD
BEGIN:DAYLIGHT
DTSTART:20260329T020000Z
TZOFFSETFROM:+0100
TZOFFSETTO:+0200
END:DAYLIGHT
BEGIN:STANDARD
DTSTART:20261025T030000Z
TZOFFSETFROM:+0200
TZOFFSETTO:+0100
END:STANDARD
END:VTIMEZONE
BEGIN:VTIMEZONE
TZID:UTC
BEGIN:STANDARD
DTSTART:20250729T153938Z
TZOFFSETFROM:+0000
TZOFFSETTO:+0000
END:STANDARD
END:VTIMEZONE
BEGIN:VEVENT
UID:234-38
DTSTAMP:20260425T153938Z
SUMMARY:Descenso del Río Cares en SUP
LOCATION:Panes
ORGANIZER;CN=Hugo:MAILTO:hugosuarezdiaz@gmail.com
RRULE:FREQ=WEEKLY;UNTIL=20260531T000000Z
DTSTART;TZID=Europe/Madrid:20260510T100000
DTEND;TZID=Europe/Madrid:20260510T140000
X-ALT-DESC;FMTTYPE=TEXT/HTML:En el DESCENSO DEL RÍO CARES EN SUP explorare
 mos el río más increíble\, espectacular y con las aguas más puras y cr
 istalinas de toda la cornisa cantábrica. Disfrutarás de tu tiempo lejos 
 de las multitudes\, remando en aguas turquesas bordeadas de magníficas pa
 redes de piedra caliza. Mas info pinchando aquí
CATEGORIES:Descenso del río Cares en SUP
URL;VALUE=URI:https://aventurapicosdeeuropa.com/mc-events/descenso-del-rio-
 cares-en-sup-7/?mc_id=234
METHOD:PUBLISH
END:VEVENT
END:VCALENDAR